BEGIN:VCALENDAR
VERSION:2.0
PRODID:-//Chronic Kidney Disease - ECPv6.14.2//NONSGML v1.0//EN
CALSCALE:GREGORIAN
METHOD:PUBLISH
X-ORIGINAL-URL:https://www.thinkkidneys.nhs.uk/ckd
X-WR-CALDESC:Events for Chronic Kidney Disease
REFRESH-INTERVAL;VALUE=DURATION:PT1H
X-Robots-Tag:noindex
X-PUBLISHED-TTL:PT1H
BEGIN:VTIMEZONE
TZID:Europe/London
BEGIN:DAYLIGHT
TZOFFSETFROM:+0000
TZOFFSETTO:+0100
TZNAME:BST
DTSTART:20150329T010000
END:DAYLIGHT
BEGIN:STANDARD
TZOFFSETFROM:+0100
TZOFFSETTO:+0000
TZNAME:GMT
DTSTART:20151025T010000
END:STANDARD
END:VTIMEZONE
BEGIN:VEVENT
DTSTART;TZID=Europe/London:20150707T143000
DTEND;TZID=Europe/London:20150707T163000
DTSTAMP:20260425T122858
CREATED:20150120T112127Z
LAST-MODIFIED:20151110T103034Z
UID:1111-1436279400-1436286600@www.thinkkidneys.nhs.uk
SUMMARY:Quarterly Meeting for Think Kidneys Chairs and Co-Chairs
DESCRIPTION:Face to face meeting Chairs and Co-Chairs of the Think Kidneys programme. Venue and further details will be sent to delegates.
URL:https://www.thinkkidneys.nhs.uk/ckd/event/quarterly-meeting-think-kidneys-chairs-co-chairs/
LOCATION:London TBC
END:VEVENT
BEGIN:VEVENT
DTSTART;VALUE=DATE:20150630
DTEND;VALUE=DATE:20150703
DTSTAMP:20260425T122858
CREATED:20150127T143223Z
LAST-MODIFIED:20151110T103034Z
UID:1187-1435622400-1435881599@www.thinkkidneys.nhs.uk
SUMMARY:British Renal Society Annual Conference
DESCRIPTION:Abstract being provided by Nick Selby for session\nThink Kidneys have a stand booked\nRichard Fluck will be chairing ‘0 by 25’ session plus a session on AKI
URL:https://www.thinkkidneys.nhs.uk/ckd/event/british-renal-society-annual-conference/
LOCATION:University of Leeds
END:VEVENT
BEGIN:VEVENT
DTSTART;TZID=Europe/London:20150626T113000
DTEND;TZID=Europe/London:20150626T123000
DTSTAMP:20260425T122858
CREATED:20150120T124452Z
LAST-MODIFIED:20151110T103034Z
UID:1134-1435318200-1435321800@www.thinkkidneys.nhs.uk
SUMMARY:Implementation Workstream Meeting
DESCRIPTION:Telephone meeting for members of the Think Kidneys implementation workstream. Details will be sent to delegates.
URL:https://www.thinkkidneys.nhs.uk/ckd/event/implementation-workstream-meeting-6/
LOCATION:Telephone conference
END:VEVENT
BEGIN:VEVENT
DTSTART;TZID=Europe/London:20150624T130000
DTEND;TZID=Europe/London:20150624T170000
DTSTAMP:20260425T122858
CREATED:20150120T111400Z
LAST-MODIFIED:20151110T103034Z
UID:1106-1435150800-1435165200@www.thinkkidneys.nhs.uk
SUMMARY:Risk Workstream Meeting
DESCRIPTION:Face to face meeting for members of the Think Kidneys risk workstream. Venue and further details will be sent out to delegates.
URL:https://www.thinkkidneys.nhs.uk/ckd/event/risk-workstream-meeting-6/
LOCATION:Leeds TBC
END:VEVENT
BEGIN:VEVENT
DTSTART;TZID=Europe/London:20150615T090000
DTEND;TZID=Europe/London:20150615T170000
DTSTAMP:20260425T122858
CREATED:20150323T161652Z
LAST-MODIFIED:20151110T103034Z
UID:1350-1434358800-1434387600@www.thinkkidneys.nhs.uk
SUMMARY:Care of older people in hospital
DESCRIPTION:Think Kidneys will have a stand at this event at the Royal College of Physicians in London.
URL:https://www.thinkkidneys.nhs.uk/ckd/event/care-of-older-people-in-hospital/
LOCATION:Royal College of Physicians\, 11 St Andrews Place\, Regent's Park\, London \, London\, NW1 4LE
END:VEVENT
BEGIN:VEVENT
DTSTART;TZID=Europe/London:20150604T130000
DTEND;TZID=Europe/London:20150604T140000
DTSTAMP:20260425T122858
CREATED:20150120T111735Z
LAST-MODIFIED:20151110T103034Z
UID:1109-1433422800-1433426400@www.thinkkidneys.nhs.uk
SUMMARY:Intervention Workstream Meeting
DESCRIPTION:Telephone meeting for members of the Think Kidneys intervention workstream.  Details will be sent to delegates.
URL:https://www.thinkkidneys.nhs.uk/ckd/event/intervention-workstream-meeting-5/
LOCATION:Telephone conference
END:VEVENT
BEGIN:VEVENT
DTSTART;TZID=Europe/London:20150604T120000
DTEND;TZID=Europe/London:20150604T130000
DTSTAMP:20260425T122858
CREATED:20150521T100237Z
LAST-MODIFIED:20151110T103034Z
UID:1485-1433419200-1433422800@www.thinkkidneys.nhs.uk
SUMMARY:Primary Care response to AKI Alerts working group
DESCRIPTION:Telephone Meeting of Primary Care response to AKI Alerts working group – delegates will be sent joining instructions.
URL:https://www.thinkkidneys.nhs.uk/ckd/event/primary-care-response-to-aki-alerts-working-group/
LOCATION:Telephone conference
END:VEVENT
BEGIN:VEVENT
DTSTART;TZID=Europe/London:20150603T100000
DTEND;TZID=Europe/London:20150603T230000
DTSTAMP:20260425T122858
CREATED:20150521T101414Z
LAST-MODIFIED:20151110T103034Z
UID:1491-1433325600-1433372400@www.thinkkidneys.nhs.uk
SUMMARY:Sign Up to Safety Webinar
DESCRIPTION:SU2S Webinar Think Kidneys: Improving the management of acute kidney injury in the NHS\nPresented by Dr Richard Fluck\, National Clinical Director (Renal) – NHS England
URL:https://www.thinkkidneys.nhs.uk/ckd/event/sign-up-to-safety-webinar/
LOCATION:Webinar
END:VEVENT
BEGIN:VEVENT
DTSTART;TZID=Europe/London:20150602T130000
DTEND;TZID=Europe/London:20150602T160000
DTSTAMP:20260425T122858
CREATED:20150120T111546Z
LAST-MODIFIED:20151110T103034Z
UID:1108-1433250000-1433260800@www.thinkkidneys.nhs.uk
SUMMARY:Education Workstream Meeting
DESCRIPTION:Face to face meeting for members of the Think Kidneys education workstream.  Venue and further details will be sent to delegates.
URL:https://www.thinkkidneys.nhs.uk/ckd/event/education-workstream-meeting-4/
LOCATION:Birmingham TBC
END:VEVENT
BEGIN:VEVENT
DTSTART;TZID=Europe/London:20150602T110000
DTEND;TZID=Europe/London:20150602T123000
DTSTAMP:20260425T122858
CREATED:20150521T094423Z
LAST-MODIFIED:20151110T103034Z
UID:1484-1433242800-1433248200@www.thinkkidneys.nhs.uk
SUMMARY:Meeting for public campaign working group
DESCRIPTION:Meeting for members of the Think Kidneys public campaign working group. Details will be sent to delegates.
URL:https://www.thinkkidneys.nhs.uk/ckd/event/meeting-for-public-campaign-working-group/
LOCATION:Birmingham Priory
END:VEVENT
BEGIN:VEVENT
DTSTART;TZID=Europe/London:20150529T113000
DTEND;TZID=Europe/London:20150529T123000
DTSTAMP:20260425T122858
CREATED:20150120T124227Z
LAST-MODIFIED:20151110T103034Z
UID:1133-1432899000-1432902600@www.thinkkidneys.nhs.uk
SUMMARY:Implementation Workstream Meeting
DESCRIPTION:Telephone meeting for members of the Think Kidneys implementation workstream. Details will be sent to delegates.
URL:https://www.thinkkidneys.nhs.uk/ckd/event/implementation-workstream-meeting-5/
LOCATION:Telephone conference
END:VEVENT
BEGIN:VEVENT
DTSTART;VALUE=DATE:20150528
DTEND;VALUE=DATE:20150601
DTSTAMP:20260425T122858
CREATED:20150127T142857Z
LAST-MODIFIED:20151110T103035Z
UID:1184-1432771200-1433116799@www.thinkkidneys.nhs.uk
SUMMARY:ERA EDTA Congress
DESCRIPTION:Think Kidneys to have a stand at this event.
URL:https://www.thinkkidneys.nhs.uk/ckd/event/era-edta-congress/
LOCATION:London Excel
END:VEVENT
BEGIN:VEVENT
DTSTART;TZID=Europe/London:20150526T100000
DTEND;TZID=Europe/London:20150526T110000
DTSTAMP:20260425T122858
CREATED:20150119T162306Z
LAST-MODIFIED:20151110T103035Z
UID:1102-1432634400-1432638000@www.thinkkidneys.nhs.uk
SUMMARY:Risk Workstream Meeting
DESCRIPTION:Telephone meeting for members of the Think Kidneys risk workstream. Telephone details have been sent out to participants.
URL:https://www.thinkkidneys.nhs.uk/ckd/event/risk-workstream-meeting-5/
LOCATION:Telephone conference
END:VEVENT
BEGIN:VEVENT
DTSTART;TZID=Europe/London:20150521T130000
DTEND;TZID=Europe/London:20150521T140000
DTSTAMP:20260425T122858
CREATED:20150521T093734Z
LAST-MODIFIED:20151110T103035Z
UID:1483-1432213200-1432216800@www.thinkkidneys.nhs.uk
SUMMARY:Risk workstream telephone meeting
DESCRIPTION:Telephone meeting for members of the Think Kidneys risk workstream. Details will be sent to delegates.
URL:https://www.thinkkidneys.nhs.uk/ckd/event/risk-workstream-telephone-meeting/
LOCATION:Telephone conference
END:VEVENT
BEGIN:VEVENT
DTSTART;TZID=Europe/London:20150521T100000
DTEND;TZID=Europe/London:20150521T110000
DTSTAMP:20260425T122858
CREATED:20150521T100439Z
LAST-MODIFIED:20151110T103035Z
UID:1486-1432202400-1432206000@www.thinkkidneys.nhs.uk
SUMMARY:Community and Primary Care Nurse Forum
DESCRIPTION:Meeting of Community and Primary Care nurse forum members. Delegates will receive joining instructions.
URL:https://www.thinkkidneys.nhs.uk/ckd/event/community-and-primary-care-nurse-forum/
LOCATION:Telephone conference
END:VEVENT
BEGIN:VEVENT
DTSTART;TZID=Europe/London:20150507T130000
DTEND;TZID=Europe/London:20150507T140000
DTSTAMP:20260425T122858
CREATED:20150119T162526Z
LAST-MODIFIED:20151110T103035Z
UID:1104-1431003600-1431007200@www.thinkkidneys.nhs.uk
SUMMARY:Intervention Workstream Meeting
DESCRIPTION:Telephone meeting for members of the Think Kidneys intervention workstream. Telephone details have been sent out to participants.
URL:https://www.thinkkidneys.nhs.uk/ckd/event/intervention-workstream-meeting-4/
LOCATION:Telephone conference
END:VEVENT
BEGIN:VEVENT
DTSTART;TZID=Europe/London:20150505T080000
DTEND;TZID=Europe/London:20150505T090000
DTSTAMP:20260425T122858
CREATED:20150119T162413Z
LAST-MODIFIED:20151110T103035Z
UID:1103-1430812800-1430816400@www.thinkkidneys.nhs.uk
SUMMARY:Education Workstream Meeting
DESCRIPTION:Telephone meeting for members of the Think Kidneys education workstream. Telephone details have been sent out to participants.
URL:https://www.thinkkidneys.nhs.uk/ckd/event/education-workstream-meeting-3/
LOCATION:Telephone conference
END:VEVENT
BEGIN:VEVENT
DTSTART;TZID=Europe/London:20150424T113000
DTEND;TZID=Europe/London:20150424T123000
DTSTAMP:20260425T122858
CREATED:20150120T124124Z
LAST-MODIFIED:20151110T103041Z
UID:1132-1429875000-1429878600@www.thinkkidneys.nhs.uk
SUMMARY:Implementation Workstream Meeting
DESCRIPTION:Telephone meeting for members of the Think Kidneys implementation workstream. Details will be sent to delegates.
URL:https://www.thinkkidneys.nhs.uk/ckd/event/implementation-workstream-meeting-4/
LOCATION:Telephone conference
END:VEVENT
BEGIN:VEVENT
DTSTART;TZID=Europe/London:20150422T143000
DTEND;TZID=Europe/London:20150422T163000
DTSTAMP:20260425T122858
CREATED:20150119T161653Z
LAST-MODIFIED:20151110T103041Z
UID:1097-1429713000-1429720200@www.thinkkidneys.nhs.uk
SUMMARY:Quarterly Chairs and Co-Chairs Meeting
DESCRIPTION:Face to face meeting for Think Kidney workstream Chairs and Co-Chairs.  Venue and further details to be sent to delegates.
URL:https://www.thinkkidneys.nhs.uk/ckd/event/quarterly-chairs-co-chairs-meeting/
LOCATION:Birmingham TBC
END:VEVENT
BEGIN:VEVENT
DTSTART;TZID=Europe/London:20150422T110000
DTEND;TZID=Europe/London:20150422T143000
DTSTAMP:20260425T122858
CREATED:20150119T161511Z
LAST-MODIFIED:20151110T103041Z
UID:1095-1429700400-1429713000@www.thinkkidneys.nhs.uk
SUMMARY:Think Kidneys Programme Board Meeting
DESCRIPTION:Face to face meeting for members of the Think Kidneys Programme Board.  Venue and further details to be sent out to delegates.
URL:https://www.thinkkidneys.nhs.uk/ckd/event/think-kidneys-programme-board-meeting/
LOCATION:Birmingham TBC
END:VEVENT
BEGIN:VEVENT
DTSTART;TZID=Europe/London:20150416T130000
DTEND;TZID=Europe/London:20150416T140000
DTSTAMP:20260425T122858
CREATED:20150119T161802Z
LAST-MODIFIED:20151110T103041Z
UID:1098-1429189200-1429192800@www.thinkkidneys.nhs.uk
SUMMARY:Risk Workstream Meeting
DESCRIPTION:Telephone meeting for members of the Think Kidneys risk workstream. Telephone details have been sent out to participants.
URL:https://www.thinkkidneys.nhs.uk/ckd/event/risk-workstream-meeting-4/
LOCATION:Telephone conference
END:VEVENT
BEGIN:VEVENT
DTSTART;TZID=Europe/London:20150409T130000
DTEND;TZID=Europe/London:20150409T140000
DTSTAMP:20260425T122858
CREATED:20150119T162147Z
LAST-MODIFIED:20151110T103041Z
UID:1101-1428584400-1428588000@www.thinkkidneys.nhs.uk
SUMMARY:Intervention Workstream Meeting
DESCRIPTION:Telephone meeting for members of the Think Kidneys intervention workstream. Telephone details have been sent out to participants.
URL:https://www.thinkkidneys.nhs.uk/ckd/event/intervention-workstream-meeting-3/
LOCATION:Telephone conference
END:VEVENT
BEGIN:VEVENT
DTSTART;TZID=Europe/London:20150328T113000
DTEND;TZID=Europe/London:20150328T123000
DTSTAMP:20260425T122858
CREATED:20150120T124020Z
LAST-MODIFIED:20151110T103041Z
UID:1131-1427542200-1427545800@www.thinkkidneys.nhs.uk
SUMMARY:Implementation Workstream Meeting
DESCRIPTION:Telephone meeting for members of the Think Kidneys implementation workstream. Details will be sent to delegates.
URL:https://www.thinkkidneys.nhs.uk/ckd/event/implementation-workstream-meeting-3/
LOCATION:Telephone conference
END:VEVENT
BEGIN:VEVENT
DTSTART;TZID=Europe/London:20150325T093000
DTEND;TZID=Europe/London:20150325T153000
DTSTAMP:20260425T122858
CREATED:20150325T120127Z
LAST-MODIFIED:20151110T103041Z
UID:1359-1427275800-1427297400@www.thinkkidneys.nhs.uk
SUMMARY:South West Cardiovascular Strategic Clinical Network  AKI Learning Event
DESCRIPTION:Presentations by Richard Fluck and Kathryn Griffith.
URL:https://www.thinkkidneys.nhs.uk/ckd/event/south-west-cardiovascular-strategic-clinical-network-aki-learning-event/
LOCATION:Somerset Country Cricket Club\, The County Ground\, Saint James Street\, Taunton\, Somerset TA1 1JT
END:VEVENT
BEGIN:VEVENT
DTSTART;VALUE=DATE:20150324
DTEND;VALUE=DATE:20150325
DTSTAMP:20260425T122858
CREATED:20150108T195642Z
LAST-MODIFIED:20151110T103041Z
UID:1068-1427155200-1427241599@www.thinkkidneys.nhs.uk
SUMMARY:Primary Care and Commissioner Acute Kidney Injury Workshop
DESCRIPTION:Primary Care Workshop flyer \nAccredited by RCGP\, the Think Kidneys Primary and Commissioner workshop will build on the work already done following the patient safety alert issued in June 2014 which mandated all secondary care providers to include the standardised acute kidney injury warning grade algorithm into their pathology laboratory information systems. The electronic alerts identifying patients with AKI being received in primary care need an appropriate response to ensure the best outcome for the patient. \nThis one day\, interactive workshop will explore what is generally understood about AKI in primary care\, and what information\, educational resources and support the Think Kidneys programme can provide to help primary care prevent and manage AKI to reduce harm and improve patient care and treatment. \nIf you work in primary care or commissioning please join us for this exciting workshop on 24 March at The Studio\, Birmingham\, B2 5EP\, where we will consider \n\nAcute kidney injury\, what it is and how it can be managed in primary care\nSome real case studies\, ideas and examples where the alerts and responses are working well and the impact this is having\nThe need for improvement and how to determine the important actions to engage\, educate and encourage changes in practice primary and community care\nShaping the work of the national programme.\n\nOur intention is that this exchange of ideas will provide a firm basis to develop an appropriate care package for primary care. \nTo register your interest in this free event\, please click here. We look forward to seeing you in Birmingham.
URL:https://www.thinkkidneys.nhs.uk/ckd/event/primary-care-community-workshop/
LOCATION:The Studio\, Cannon Street\, Birmingham\, West Midlands\, B2 5EP\, United Kingdom
END:VEVENT
BEGIN:VEVENT
DTSTART;TZID=Europe/London:20150320T130000
DTEND;TZID=Europe/London:20150320T160000
DTSTAMP:20260425T122858
CREATED:20150119T160337Z
LAST-MODIFIED:20151110T103041Z
UID:1089-1426856400-1426867200@www.thinkkidneys.nhs.uk
SUMMARY:Risk Workstream Meeting
DESCRIPTION:Face to face meeting for members of the Think Kidneys risk workstream. Venue and further details will be sent out to participants.
URL:https://www.thinkkidneys.nhs.uk/ckd/event/risk-workstream-meeting-3/
LOCATION:London TBC
END:VEVENT
BEGIN:VEVENT
DTSTART;VALUE=DATE:20150318
DTEND;VALUE=DATE:20150319
DTSTAMP:20260425T122858
CREATED:20150126T101547Z
LAST-MODIFIED:20151110T103041Z
UID:1172-1426636800-1426723199@www.thinkkidneys.nhs.uk
SUMMARY:Presentation on Think Kidneys
DESCRIPTION:Karen Thomas to give a presentation to the AHSN Collaboratives on Think Kidneys.
URL:https://www.thinkkidneys.nhs.uk/ckd/event/presentation-think-kidneys/
LOCATION:Hotel TBA\, Crawley\, United Kingdom
END:VEVENT
BEGIN:VEVENT
DTSTART;TZID=Europe/London:20150317T140000
DTEND;TZID=Europe/London:20150317T150000
DTSTAMP:20260425T122858
CREATED:20150119T160640Z
LAST-MODIFIED:20151110T103041Z
UID:1092-1426600800-1426604400@www.thinkkidneys.nhs.uk
SUMMARY:Detection Workstream Meeting
DESCRIPTION:Telephone meeting for members of the Think Kidneys detection workstream. Telephone details have been sent out to participants.
URL:https://www.thinkkidneys.nhs.uk/ckd/event/detection-workstream-meeting/
LOCATION:Telephone conference
END:VEVENT
BEGIN:VEVENT
DTSTART;VALUE=DATE:20150312
DTEND;VALUE=DATE:20150313
DTSTAMP:20260425T122858
CREATED:20150108T195809Z
LAST-MODIFIED:20151110T103041Z
UID:1070-1426118400-1426204799@www.thinkkidneys.nhs.uk
SUMMARY:World Kidney Day
DESCRIPTION:Time to start a new adventure \nWorld Kidney Day will be celebrated on March 12\, 2015. This year’s focus is Kidney Health for All. \nResearch shows that some communities suffer from a higher prevalence and incidence of kidney disease\, lack adequate access to treatments or do not have the means or the education to take preventive measures. This year\, World Kidney Day wants to give them a voice and bring this issue forward on the global health policy agenda. \n\nEveryone is invited to join the effort celebrate World Kidney Day by\nOrganising events and activities to celebrate WKD. www.worldkidneyday.co.uk \nRaise a glass of water for your kidneys on March 12\, 2015 www.worldkidneyday.org/drink-glass-water\nUse your communications channels to spread the WKD message (intranet\, press contacts\, social media\, website\, …)\nStart a dialogue with local politicians and decision makers to encourage them to take preventive measures\n\nThink Kidneys will be promoting and supporting World Kidney Day 2015 – sign up below and we’ll keep you up to date with our plans.
URL:https://www.thinkkidneys.nhs.uk/ckd/event/world-kidney-day/
END:VEVENT
BEGIN:VEVENT
DTSTART;TZID=Europe/London:20150310T151500
DTEND;TZID=Europe/London:20150310T161500
DTSTAMP:20260425T122858
CREATED:20150119T160858Z
LAST-MODIFIED:20151110T103041Z
UID:1093-1426000500-1426004100@www.thinkkidneys.nhs.uk
SUMMARY:Detection Workstream - Algorithm Sub Group Meeting
DESCRIPTION:Telephone meeting for members of the Think Kidneys detection workstream – algorithm sub group. Telephone details have been sent out to participants.
URL:https://www.thinkkidneys.nhs.uk/ckd/event/detection-workstream-algorithm-sub-group-meeting/
LOCATION:Telephone conference
END:VEVENT
END:VCALENDAR