BEGIN:VCALENDAR
VERSION:2.0
PRODID:-//Chronic Kidney Disease - ECPv6.14.2//NONSGML v1.0//EN
CALSCALE:GREGORIAN
METHOD:PUBLISH
X-WR-CALNAME:Chronic Kidney Disease
X-ORIGINAL-URL:https://www.thinkkidneys.nhs.uk/ckd
X-WR-CALDESC:Events for Chronic Kidney Disease
REFRESH-INTERVAL;VALUE=DURATION:PT1H
X-Robots-Tag:noindex
X-PUBLISHED-TTL:PT1H
BEGIN:VTIMEZONE
TZID:Europe/London
BEGIN:DAYLIGHT
TZOFFSETFROM:+0000
TZOFFSETTO:+0100
TZNAME:BST
DTSTART:20150329T010000
END:DAYLIGHT
BEGIN:STANDARD
TZOFFSETFROM:+0100
TZOFFSETTO:+0000
TZNAME:GMT
DTSTART:20151025T010000
END:STANDARD
END:VTIMEZONE
BEGIN:VEVENT
DTSTART;TZID=Europe/London:20150211T100000
DTEND;TZID=Europe/London:20150211T130000
DTSTAMP:20260426T015653
CREATED:20150119T162014Z
LAST-MODIFIED:20151110T103042Z
UID:1099-1423648800-1423659600@www.thinkkidneys.nhs.uk
SUMMARY:Measurement Workstream Meeting
DESCRIPTION:Face to face meeting for members of the Think Kidneys measurement workstream. Further details will be sent to delegates.
URL:https://www.thinkkidneys.nhs.uk/ckd/event/measurement-workstream-meeting/
LOCATION:Birmingham Priory
END:VEVENT
BEGIN:VEVENT
DTSTART;TZID=Europe/London:20150205T130000
DTEND;TZID=Europe/London:20150205T140000
DTSTAMP:20260426T015653
CREATED:20150119T160027Z
LAST-MODIFIED:20151110T103042Z
UID:1088-1423141200-1423144800@www.thinkkidneys.nhs.uk
SUMMARY:Intervention Workstream Meeting
DESCRIPTION:Telephone meeting for members of the Think Kidneys intervention workstream. Telephone details have been sent out to participants.
URL:https://www.thinkkidneys.nhs.uk/ckd/event/intervention-workstream-meeting/
LOCATION:Telephone conference
END:VEVENT
BEGIN:VEVENT
DTSTART;VALUE=DATE:20150204
DTEND;VALUE=DATE:20150205
DTSTAMP:20260426T015653
CREATED:20150127T142419Z
LAST-MODIFIED:20151110T103048Z
UID:1180-1423008000-1423094399@www.thinkkidneys.nhs.uk
SUMMARY:Patient experience of acute kidney injury
DESCRIPTION:Michael Wise presents a patient story at a GP Kidney Care Network Meeting
URL:https://www.thinkkidneys.nhs.uk/ckd/event/patient-experience-acute-kidney-injury/
LOCATION:London TBC
END:VEVENT
BEGIN:VEVENT
DTSTART;TZID=Europe/London:20150203T080000
DTEND;TZID=Europe/London:20150203T090000
DTSTAMP:20260426T015653
CREATED:20150119T155841Z
LAST-MODIFIED:20151110T103048Z
UID:1086-1422950400-1422954000@www.thinkkidneys.nhs.uk
SUMMARY:Education Workstream Meeting
DESCRIPTION:Telephone meeting for members of the Think Kidneys education workstream. Telephone details have been sent out to participants.
URL:https://www.thinkkidneys.nhs.uk/ckd/event/education-workstream-meeting/
END:VEVENT
BEGIN:VEVENT
DTSTART;TZID=Europe/London:20150130T113000
DTEND;TZID=Europe/London:20150130T123000
DTSTAMP:20260426T015653
CREATED:20150120T123717Z
LAST-MODIFIED:20151110T103048Z
UID:1129-1422617400-1422621000@www.thinkkidneys.nhs.uk
SUMMARY:Implementation Workstream Meeting
DESCRIPTION:Telephone meeting for members of the Think Kidneys implementation workstream. Details will be sent to delegates.
URL:https://www.thinkkidneys.nhs.uk/ckd/event/implementation-workstream-meeting/
LOCATION:Telephone conference
END:VEVENT
BEGIN:VEVENT
DTSTART;TZID=Europe/London:20150122T030000
DTEND;TZID=Europe/London:20150122T160000
DTSTAMP:20260426T015653
CREATED:20150119T141246Z
LAST-MODIFIED:20151110T103048Z
UID:1084-1421895600-1421942400@www.thinkkidneys.nhs.uk
SUMMARY:Algorithm Sub Group Meeting
DESCRIPTION:Telephone meeting for members of the Think Kidneys detection workstream – algorithm sub-group. Telephone details have been sent out to participants.
URL:https://www.thinkkidneys.nhs.uk/ckd/event/algorithm-sub-group-meeting/
END:VEVENT
BEGIN:VEVENT
DTSTART;TZID=Europe/London:20150121T130000
DTEND;TZID=Europe/London:20150121T140000
DTSTAMP:20260426T015653
CREATED:20150119T141012Z
LAST-MODIFIED:20151110T103048Z
UID:1081-1421845200-1421848800@www.thinkkidneys.nhs.uk
SUMMARY:Risk Workstream Meeting
DESCRIPTION:Telephone meeting for members of the Think Kidneys risk workstream. Telephone details have been sent out to participants.
URL:https://www.thinkkidneys.nhs.uk/ckd/event/risk-workstream-meeting/
LOCATION:Telephone conference
END:VEVENT
END:VCALENDAR