BEGIN:VCALENDAR
VERSION:2.0
PRODID:-//Chronic Kidney Disease - ECPv6.14.2//NONSGML v1.0//EN
CALSCALE:GREGORIAN
METHOD:PUBLISH
X-ORIGINAL-URL:https://www.thinkkidneys.nhs.uk/ckd
X-WR-CALDESC:Events for Chronic Kidney Disease
REFRESH-INTERVAL;VALUE=DURATION:PT1H
X-Robots-Tag:noindex
X-PUBLISHED-TTL:PT1H
BEGIN:VTIMEZONE
TZID:Europe/London
BEGIN:DAYLIGHT
TZOFFSETFROM:+0000
TZOFFSETTO:+0100
TZNAME:BST
DTSTART:20150329T010000
END:DAYLIGHT
BEGIN:STANDARD
TZOFFSETFROM:+0100
TZOFFSETTO:+0000
TZNAME:GMT
DTSTART:20151025T010000
END:STANDARD
END:VTIMEZONE
BEGIN:VEVENT
DTSTART;TZID=Europe/London:20151208T130000
DTEND;TZID=Europe/London:20151208T160000
DTSTAMP:20260424T214015
CREATED:20150120T114343Z
LAST-MODIFIED:20151110T103015Z
UID:1125-1449579600-1449590400@www.thinkkidneys.nhs.uk
SUMMARY:Education Workstream Meeting
DESCRIPTION:Face to face meeting for members of the Think Kidneys education workstream.  Venue and further details will be sent to delegates. \n 
URL:https://www.thinkkidneys.nhs.uk/ckd/event/education-workstream-meeting-10/
LOCATION:Birmingham TBC
END:VEVENT
BEGIN:VEVENT
DTSTART;TZID=Europe/London:20151203T130000
DTEND;TZID=Europe/London:20151203T140000
DTSTAMP:20260424T214015
CREATED:20150120T114510Z
LAST-MODIFIED:20151110T103015Z
UID:1126-1449147600-1449151200@www.thinkkidneys.nhs.uk
SUMMARY:Intervention Workstream Meeting
DESCRIPTION:Telepohone meeting for members of the Think Kidneys intervention workstream.  Details will be sent to delegates. \n 
URL:https://www.thinkkidneys.nhs.uk/ckd/event/intervention-workstream-meeting-11/
LOCATION:Telephone conference
END:VEVENT
BEGIN:VEVENT
DTSTART;VALUE=DATE:20151201
DTEND;VALUE=DATE:20151203
DTSTAMP:20260424T214015
CREATED:20150910T111606Z
LAST-MODIFIED:20151110T103015Z
UID:2278-1448928000-1449100799@www.thinkkidneys.nhs.uk
SUMMARY:Chief Nursing Officers Summit
DESCRIPTION:Think Kidneys will have a stand at this event. Speakers are to be confirmed
URL:https://www.thinkkidneys.nhs.uk/ckd/event/chief-nursing-officers-summit/
LOCATION:Unnamed Venue\, London
END:VEVENT
BEGIN:VEVENT
DTSTART;TZID=Europe/London:20151125T092000
DTEND;TZID=Europe/London:20151125T163000
DTSTAMP:20260424T214015
CREATED:20150417T145134Z
LAST-MODIFIED:20151110T103015Z
UID:1405-1448443200-1448469000@www.thinkkidneys.nhs.uk
SUMMARY:NHS England Strategic Clinical Networks AKI Event
DESCRIPTION:
URL:https://www.thinkkidneys.nhs.uk/ckd/event/nhs-england-strategic-clinical-networks-aki-event/
LOCATION:TBC
END:VEVENT
BEGIN:VEVENT
DTSTART;TZID=Europe/London:20151125T083000
DTEND;TZID=Europe/London:20151125T163000
DTSTAMP:20260424T214015
CREATED:20150714T124626Z
LAST-MODIFIED:20151110T103015Z
UID:2090-1448440200-1448469000@www.thinkkidneys.nhs.uk
SUMMARY:Improving Care in Acute Kidney Injury: Sharing Best Practice
DESCRIPTION:Provisional agenda items include: \n\nDo electronic alerts make a difference?\nRenal replacement therapy best practice\nFluid management and hydration\nImplementation of AKI education programme\nCare bundles in AKI\nPrimary and secondary care priorities\n\nSubmission of abstracts \nAbstracts are welcome around the following themes: \n\nImplementation and evaluation of AKI education programmes\nResearch in AKI\nAudit and measurement of AKI programmes\n\nAll entries to be submitted by: 11th September 2015 \nAbstracts must be submitted in English (UK spelling) and must be presented in English. Abstracts will be reviewed by a panel of experts and may be selected for oral or poster presentation (or may be rejected). Accepted abstracts will be published as supplement\, available to delegates on the day. \nThe length of the abstract should not exceed 500 words. \nThe abstract should be as informative as possible containing the following information: \n\nBackground and Objectives\nMethod\nResults\nConclusion\n\nPlease ensure that your abstract does not contain spelling\, grammatical or scientific errors\, as it will be reproduced exactly as submitted. \nOpening of abstract submission: 14th July 2015 Deadline for abstract submission:  11th September 2015 \nAbstracts to be submitted to Caroline.parkin6@nhs.net \nFor further details please click here
URL:https://www.thinkkidneys.nhs.uk/ckd/event/improving-care-in-acute-kidney-injury-sharing-best-practice/
END:VEVENT
BEGIN:VEVENT
DTSTART;TZID=Europe/London:20151118T100000
DTEND;TZID=Europe/London:20151118T163000
DTSTAMP:20260424T214015
CREATED:20150902T094146Z
LAST-MODIFIED:20151117T120525Z
UID:2256-1447840800-1447864200@www.thinkkidneys.nhs.uk
SUMMARY:Transforming Participation in Chronic Kidney Disease Programme Learning and Sharing Event
DESCRIPTION:This event has been arranged for the Renal Units in Cohort 1a and 1b participating in the Transforming Participation in Chronic Kidney Disease Programme.  This exciting and unique Programme aims to help patients living with kidney failure to feel better supported to reach the clinical and personal goals that are important to them. \nA major part of the programme is to measure and understand how skilled\, knowledgeable and confident patients feel about managing their health and well-being so that in partnership they can be better supported to build on their existing knowledge and understanding . \nThe aims of this Learning & Sharing event for the 10 Renal Units in Cohort 1a & 1b involved in the programme is to: \n\nBegin to create a culture of education and knowledge sharing\nBring together clinicians from renal teams and patients in roughly equal numbers to form a network which will help design and develop the TP-CKD programme.\nDraw on the experiences and lessons from participants’ knowledge and experience as well as learning about barriers and challenges the programme may face\n\nProgramme Outline \nMorning session 10:00 – 13:00 \nWelcomes\, introductions and overview of the Programme and Workstreams. \nQ&A Session \nGroup Work – Learning Needs Analysis \nLunch 13:00 – 13:30  \nAfternoon session 13:30 – 16:30 \nGroup work – development of Renal Unit Plans \nNext Steps \nA more detailed programme for the day and joining instructions will be sent to everyone who registers\, along with information about travel\, claiming expenses and any pre work or reading that may be required before the event. \nRegistration for this event has now closed.
URL:https://www.thinkkidneys.nhs.uk/ckd/event/tp-ckd-learning-and-sharing-event/
LOCATION:etc.venues Paddington\, 57 North Wharf Road\, London\, W2 1LA 
END:VEVENT
BEGIN:VEVENT
DTSTART;VALUE=DATE:20151112
DTEND;VALUE=DATE:20151114
DTSTAMP:20260424T214015
CREATED:20150521T102613Z
LAST-MODIFIED:20151110T103016Z
UID:1496-1447286400-1447459199@www.thinkkidneys.nhs.uk
SUMMARY:Patient First Conference
DESCRIPTION:Think Kidneys will have a presence at this event.
URL:https://www.thinkkidneys.nhs.uk/ckd/event/patient-first/
LOCATION:London Excel
END:VEVENT
BEGIN:VEVENT
DTSTART;VALUE=DATE:20151106
DTEND;VALUE=DATE:20151108
DTSTAMP:20260424T214015
CREATED:20150910T105313Z
LAST-MODIFIED:20151110T103016Z
UID:2276-1446768000-1446940799@www.thinkkidneys.nhs.uk
SUMMARY:Issues and Answers in Cadiovascular Disease
DESCRIPTION: Think Kidneys will have a stand at this event.
URL:https://www.thinkkidneys.nhs.uk/ckd/event/issues-and-answers-in-cadiovascular-disease/
LOCATION:EMCC\, Nottingham
END:VEVENT
BEGIN:VEVENT
DTSTART;TZID=Europe/London:20151105T130000
DTEND;TZID=Europe/London:20151105T140000
DTSTAMP:20260424T214015
CREATED:20150120T114159Z
LAST-MODIFIED:20151110T103016Z
UID:1124-1446728400-1446732000@www.thinkkidneys.nhs.uk
SUMMARY:Intervention Workstream Meeting
DESCRIPTION:Telepohone meeting for members of the Think Kidneys intervention workstream.  Details will be sent to delegates. \n 
URL:https://www.thinkkidneys.nhs.uk/ckd/event/intervention-workstream-meeting-10/
LOCATION:Telephone conference
END:VEVENT
BEGIN:VEVENT
DTSTART;TZID=Europe/London:20151103T080000
DTEND;TZID=Europe/London:20151103T090000
DTSTAMP:20260424T214015
CREATED:20150120T114058Z
LAST-MODIFIED:20151110T103016Z
UID:1123-1446537600-1446541200@www.thinkkidneys.nhs.uk
SUMMARY:Education Workstream Meeting
DESCRIPTION:Telepohone meeting for members of the Think Kidneys education workstream.  Details will be sent to delegates. \n 
URL:https://www.thinkkidneys.nhs.uk/ckd/event/education-workstream-meeting-9/
LOCATION:Telephone conference
END:VEVENT
BEGIN:VEVENT
DTSTART;TZID=Europe/London:20151030T100000
DTEND;TZID=Europe/London:20151030T160000
DTSTAMP:20260424T214015
CREATED:20150928T143206Z
LAST-MODIFIED:20151110T103016Z
UID:2314-1446199200-1446220800@www.thinkkidneys.nhs.uk
SUMMARY:Be the scientist for the day
DESCRIPTION:As part of National Pathology week\, a ‘be the scientist for the day’ event is being held for 6 to 12 year olds with the main theme centralising around the kidneys. The children will be given lab coats and clip boards and be asked in investigate three fictional patients with kidney problems. \nThe event will be held at ThinkTank Science Museum in Birmingham and it has been arranged by the Clinical Scientists from the Heart of England NHS Foundation Trust. \nThe session will cover: \n\nWhere they kidneys are located in the body and what they do\nDemonstrations on how the kidneys act as filters and what happens when this process goes wrong\nWhat laboratory tests can be done to assess kidney function (looking at urine dipsticks and measuring creatinine)\nWhat factors can cause kidney disease and what you need to look for\n\nThere will also be a stand containing information leaflets for parents/carers so we can raise awareness of kidney function and health. \nFurther information can be found on the I Love Pathology website.
URL:https://www.thinkkidneys.nhs.uk/ckd/event/be-the-scientist-for-the-day/
END:VEVENT
BEGIN:VEVENT
DTSTART;TZID=Europe/London:20151026T090000
DTEND;TZID=Europe/London:20151028T170000
DTSTAMP:20260424T214015
CREATED:20150323T161939Z
LAST-MODIFIED:20151110T103016Z
UID:1354-1445850000-1446051600@www.thinkkidneys.nhs.uk
SUMMARY:Acute and general medicine for the physician
DESCRIPTION:Think Kidneys will have a stand at this event at the Royal College of Physicians in London.
URL:https://www.thinkkidneys.nhs.uk/ckd/event/acute-and-general-medicine-for-the-physician/
LOCATION:Royal College of Physicians\, 11 St Andrews Place\, Regent's Park\, London \, London\, NW1 4LE
END:VEVENT
BEGIN:VEVENT
DTSTART;VALUE=DATE:20151021
DTEND;VALUE=DATE:20151023
DTSTAMP:20260424T214015
CREATED:20150910T105027Z
LAST-MODIFIED:20151110T103016Z
UID:2275-1445385600-1445558399@www.thinkkidneys.nhs.uk
SUMMARY:Best Practice 2015
DESCRIPTION:Think Kidneys will have a stand at this event.
URL:https://www.thinkkidneys.nhs.uk/ckd/event/best-practice-2015/
LOCATION:NEC\, Birmingham
END:VEVENT
BEGIN:VEVENT
DTSTART;TZID=Europe/London:20151020T123000
DTEND;TZID=Europe/London:20151020T164500
DTSTAMP:20260424T214015
CREATED:20150929T142626Z
LAST-MODIFIED:20151110T103016Z
UID:2322-1445344200-1445359500@www.thinkkidneys.nhs.uk
SUMMARY:Acute Kidney Injury (AKI): Improving prevention\, early detection and management of AKI in Community Hospitals in Dorset
DESCRIPTION:NHS Dorset CCG and the Wessex Cardiovascular Strategic Network are pleased to support this collaborative study day.  The event has been designed to raise awareness of AKI and promote best practice in primary and community care in the prevention\, early detection and care of patients in Dorset. \nThe afternoon event is for healthcare professionals working in primary and community care in Bournemouth\, Dorset and Poole. For further details and to register please click here. \nThere is also a morning event for those working in Community Hospitals.
URL:https://www.thinkkidneys.nhs.uk/ckd/event/acute-kidney-injury-aki-improving-prevention-early-detection-and-management-of-aki-in-community-hospitals-in-dorset-2/
LOCATION:Springfield Hotel\, Grange Road\, Wareham\, BH20 5AL
END:VEVENT
BEGIN:VEVENT
DTSTART;TZID=Europe/London:20151020T100000
DTEND;TZID=Europe/London:20151020T123000
DTSTAMP:20260424T214015
CREATED:20150929T142050Z
LAST-MODIFIED:20151110T103016Z
UID:2319-1445335200-1445344200@www.thinkkidneys.nhs.uk
SUMMARY:Acute Kidney Injury (AKI): Improving prevention\, early detection and management of AKI in Community Hospitals in Dorset
DESCRIPTION:NHS Dorset CCG and the Wessex Cardiovascular Strategic Network are pleased to support this collaborative event.  The event has been designed to raise awareness of AKI and promote best practice in community hospitals in the prevention\, early detection and care of patients in Dorset. \nThe morning event is for healthcare professionals working in Community Hospitals in Bournemouth\, Dorset and Poole. For further details and to register please click here. \nThere is also an afternoon event aimed at primary and community staff.
URL:https://www.thinkkidneys.nhs.uk/ckd/event/acute-kidney-injury-aki-improving-prevention-early-detection-and-management-of-aki-in-community-hospitals-in-dorset/
LOCATION:Springfield Hotel\, Grange Road\, Wareham\, BH20 5AL
END:VEVENT
BEGIN:VEVENT
DTSTART;VALUE=DATE:20151018
DTEND;VALUE=DATE:20151020
DTSTAMP:20260424T214015
CREATED:20150910T104656Z
LAST-MODIFIED:20151110T103016Z
UID:2273-1445126400-1445299199@www.thinkkidneys.nhs.uk
SUMMARY:Phrmacy show
DESCRIPTION:Think Kidneys will have a stand at this event \n\n\n\n\n\n 
URL:https://www.thinkkidneys.nhs.uk/ckd/event/phrmacy-show/
LOCATION:NEC\, Birmingham
END:VEVENT
BEGIN:VEVENT
DTSTART;TZID=Europe/London:20151014T140000
DTEND;TZID=Europe/London:20151014T163000
DTSTAMP:20260424T214015
CREATED:20150120T113356Z
LAST-MODIFIED:20151110T103016Z
UID:1119-1444831200-1444840200@www.thinkkidneys.nhs.uk
SUMMARY:Quarterly Meeting for Think Kidneys Chairs and Co-Chairs
DESCRIPTION:Face to face meeting for Think Kidneys Programme Chairs and Co-Chairs.  Venue and further details will be sent to delegates.
URL:https://www.thinkkidneys.nhs.uk/ckd/event/quarterly-meeting-think-kidneys-chairs-co-chairs-2/
LOCATION:Birmingham TBC
END:VEVENT
BEGIN:VEVENT
DTSTART;TZID=Europe/London:20151014T110000
DTEND;TZID=Europe/London:20151014T143000
DTSTAMP:20260424T214015
CREATED:20150120T113203Z
LAST-MODIFIED:20151110T103016Z
UID:1118-1444820400-1444833000@www.thinkkidneys.nhs.uk
SUMMARY:Think Kidneys Programme Board Meeting
DESCRIPTION:Face to face meeting of members of the Think Kidneys Programme Board.  Venue and further details will be sent to delegates.
URL:https://www.thinkkidneys.nhs.uk/ckd/event/think-kidneys-programme-board-meeting-3/
LOCATION:Birmingham TBC
END:VEVENT
BEGIN:VEVENT
DTSTART;VALUE=DATE:20151010
DTEND;VALUE=DATE:20151011
DTSTAMP:20260424T214015
CREATED:20150910T104503Z
LAST-MODIFIED:20151110T103024Z
UID:2271-1444435200-1444521599@www.thinkkidneys.nhs.uk
SUMMARY:NKF Conference
DESCRIPTION:Think Kidneys will have a stand at this event.
URL:https://www.thinkkidneys.nhs.uk/ckd/event/nkf-conference/
LOCATION:The Hilton Hotel\, Reading
END:VEVENT
BEGIN:VEVENT
DTSTART;TZID=Europe/London:20151006T080000
DTEND;TZID=Europe/London:20151006T090000
DTSTAMP:20260424T214015
CREATED:20150120T113505Z
LAST-MODIFIED:20151110T103025Z
UID:1120-1444118400-1444122000@www.thinkkidneys.nhs.uk
SUMMARY:Education Workstream Meeting
DESCRIPTION:Telephone meeting for members of the Think Kidneys education workstream.  Details will be sent to delegates.
URL:https://www.thinkkidneys.nhs.uk/ckd/event/education-workstream-meeting-8/
LOCATION:Telephone conference
END:VEVENT
BEGIN:VEVENT
DTSTART;TZID=Europe/London:20151001T130000
DTEND;TZID=Europe/London:20151001T140000
DTSTAMP:20260424T214015
CREATED:20150120T113955Z
LAST-MODIFIED:20151110T103025Z
UID:1122-1443704400-1443708000@www.thinkkidneys.nhs.uk
SUMMARY:Intervention Workstream Meeting
DESCRIPTION:Telepohone meeting for members of the Think Kidneys intervention workstream.  Details will be sent to delegates. \n  \n 
URL:https://www.thinkkidneys.nhs.uk/ckd/event/intervention-workstream-meeting-9/
LOCATION:Telephone conference
END:VEVENT
BEGIN:VEVENT
DTSTART;TZID=Europe/London:20151001T090000
DTEND;TZID=Europe/London:20151001T170000
DTSTAMP:20260424T214015
CREATED:20150323T161808Z
LAST-MODIFIED:20151110T103025Z
UID:1353-1443690000-1443718800@www.thinkkidneys.nhs.uk
SUMMARY:Cardiology update
DESCRIPTION:Think Kidneys will have a stand at this event at the Royal College of Physicians in London.
URL:https://www.thinkkidneys.nhs.uk/ckd/event/cardiology-update/
LOCATION:Royal College of Physicians\, 11 St Andrews Place\, Regent's Park\, London \, London\, NW1 4LE
END:VEVENT
BEGIN:VEVENT
DTSTART;VALUE=DATE:20151001
DTEND;VALUE=DATE:20151004
DTSTAMP:20260424T214015
CREATED:20150127T143818Z
LAST-MODIFIED:20151110T103025Z
UID:1193-1443657600-1443916799@www.thinkkidneys.nhs.uk
SUMMARY:RCGP Conference
DESCRIPTION:Think Kidneys will have a stand and provide leaflets\, poster and an abstract by Kathryn Griffiths
URL:https://www.thinkkidneys.nhs.uk/ckd/event/rcgp-conference/
LOCATION:SECC Glasgow
END:VEVENT
BEGIN:VEVENT
DTSTART;TZID=Europe/London:20150930T100000
DTEND;TZID=Europe/London:20150930T160000
DTSTAMP:20260424T214015
CREATED:20150624T195551Z
LAST-MODIFIED:20151110T103025Z
UID:2034-1443607200-1443628800@www.thinkkidneys.nhs.uk
SUMMARY:Strategic Clinical Network Event
DESCRIPTION:This is a workshop for Strategic Clinical Network members on disseminating guidance and information relating to kidney programmes. It is being organised by NHS England and the UK Renal Registry to discuss quality improvement and quality assurance for kidney related work and programmes. \nDuring the day we will explore how we can work together to improve the care of renal patients and reduce geographic variation in this care. We would also like to explore how we can systematically roll out best practice and tools for the programmes that we are running. \n 
URL:https://www.thinkkidneys.nhs.uk/ckd/event/strategic-clinical-network-event/
LOCATION:Resource for London\, 356 Holloway Road\, London\, N7 6PA\, United Kingdom
END:VEVENT
BEGIN:VEVENT
DTSTART;TZID=Europe/London:20150925T083000
DTEND;TZID=Europe/London:20150925T174500
DTSTAMP:20260424T214015
CREATED:20150701T125258Z
LAST-MODIFIED:20151110T103025Z
UID:2058-1443169800-1443203100@www.thinkkidneys.nhs.uk
SUMMARY:AKI frontiers 2015
DESCRIPTION:This one day conference will update you on key developments in acute kidney injury including clinical trials\, basic science\, translational research\, an epidemiology and quality improvement.  The meeting will also provide an update on national developments and a global health perspective as well as insights into managing AKI in challenging circumstances (such as earthquake disaster relief and Ebola infection).
URL:https://www.thinkkidneys.nhs.uk/ckd/event/aki-frontiers-2015/
LOCATION:Royal Society of Medicine\, 1 Wimpole Street \, London\,  W1G 0AE
END:VEVENT
BEGIN:VEVENT
DTSTART;TZID=Europe/London:20150925T080000
DTEND;TZID=Europe/London:20150926T170000
DTSTAMP:20260424T214015
CREATED:20150325T162956Z
LAST-MODIFIED:20151110T103025Z
UID:1361-1443168000-1443286800@www.thinkkidneys.nhs.uk
SUMMARY:UK Renal Pharmacy Group Conference
DESCRIPTION:Karen Thomas will be delivering a presentation at this event on the 26th
URL:https://www.thinkkidneys.nhs.uk/ckd/event/uk-renal-pharmacy-group-conference/
LOCATION:Unnamed Venue\, Birmingham
END:VEVENT
BEGIN:VEVENT
DTSTART;VALUE=DATE:20150922
DTEND;VALUE=DATE:20150923
DTSTAMP:20260424T214015
CREATED:20150521T101038Z
LAST-MODIFIED:20151110T103025Z
UID:1490-1442880000-1442966399@www.thinkkidneys.nhs.uk
SUMMARY:Primary Care response to AKI alerts expert panel
DESCRIPTION:Working group meeting of the Primary Care response to AKI alerts expert panel. Delegates will be sent joining instructions.
URL:https://www.thinkkidneys.nhs.uk/ckd/event/primary-care-response-to-aki-alerts-expert-panel/
LOCATION:Birmingham TBC
END:VEVENT
BEGIN:VEVENT
DTSTART;TZID=Europe/London:20150908T130000
DTEND;TZID=Europe/London:20150908T160000
DTSTAMP:20260424T214015
CREATED:20150120T112832Z
LAST-MODIFIED:20151110T103025Z
UID:1116-1441717200-1441728000@www.thinkkidneys.nhs.uk
SUMMARY:Education Workstream Meeting
DESCRIPTION:Telephone meeting for members of the Think Kidneys education workstream.  Details will be sent to delegates.
URL:https://www.thinkkidneys.nhs.uk/ckd/event/education-workstream-meeting-7/
LOCATION:London TBC
END:VEVENT
BEGIN:VEVENT
DTSTART;TZID=Europe/London:20150903T130000
DTEND;TZID=Europe/London:20150903T140000
DTSTAMP:20260424T214015
CREATED:20150120T112943Z
LAST-MODIFIED:20151110T103025Z
UID:1117-1441285200-1441288800@www.thinkkidneys.nhs.uk
SUMMARY:Intervention Workstream Meeting
DESCRIPTION:Telephone meeting for members of the Think Kidneys intervention workstream.  Details will be sent to delegates.
URL:https://www.thinkkidneys.nhs.uk/ckd/event/intervention-workstream-meeting-8/
LOCATION:Telephone conference
END:VEVENT
BEGIN:VEVENT
DTSTART;VALUE=DATE:20150902
DTEND;VALUE=DATE:20150904
DTSTAMP:20260424T214015
CREATED:20150521T102016Z
LAST-MODIFIED:20151110T103025Z
UID:1494-1441152000-1441324799@www.thinkkidneys.nhs.uk
SUMMARY:NHS England Expo
DESCRIPTION:NHS Expo Think Kidneys will have a presence at this event.
URL:https://www.thinkkidneys.nhs.uk/ckd/event/nhs-england-expo/
LOCATION:Manchester Central
END:VEVENT
END:VCALENDAR